BEGIN:VCALENDAR
VERSION:2.0
PRODID:-//GroKaGe Rastatt 1898 e.V. - ECPv6.15.11//NONSGML v1.0//EN
CALSCALE:GREGORIAN
METHOD:PUBLISH
X-ORIGINAL-URL:https://grokage.de
X-WR-CALDESC:Veranstaltungen für GroKaGe Rastatt 1898 e.V.
REFRESH-INTERVAL;VALUE=DURATION:PT1H
X-Robots-Tag:noindex
X-PUBLISHED-TTL:PT1H
BEGIN:VTIMEZONE
TZID:Europe/Berlin
BEGIN:DAYLIGHT
TZOFFSETFROM:+0100
TZOFFSETTO:+0200
TZNAME:CEST
DTSTART:20240331T010000
END:DAYLIGHT
BEGIN:STANDARD
TZOFFSETFROM:+0200
TZOFFSETTO:+0100
TZNAME:CET
DTSTART:20241027T010000
END:STANDARD
BEGIN:DAYLIGHT
TZOFFSETFROM:+0100
TZOFFSETTO:+0200
TZNAME:CEST
DTSTART:20250330T010000
END:DAYLIGHT
BEGIN:STANDARD
TZOFFSETFROM:+0200
TZOFFSETTO:+0100
TZNAME:CET
DTSTART:20251026T010000
END:STANDARD
BEGIN:DAYLIGHT
TZOFFSETFROM:+0100
TZOFFSETTO:+0200
TZNAME:CEST
DTSTART:20260329T010000
END:DAYLIGHT
BEGIN:STANDARD
TZOFFSETFROM:+0200
TZOFFSETTO:+0100
TZNAME:CET
DTSTART:20261025T010000
END:STANDARD
BEGIN:DAYLIGHT
TZOFFSETFROM:+0100
TZOFFSETTO:+0200
TZNAME:CEST
DTSTART:20270328T010000
END:DAYLIGHT
BEGIN:STANDARD
TZOFFSETFROM:+0200
TZOFFSETTO:+0100
TZNAME:CET
DTSTART:20271031T010000
END:STANDARD
END:VTIMEZONE
BEGIN:VEVENT
DTSTART;TZID=Europe/Berlin:20260224T082424
DTEND;TZID=Europe/Berlin:20260224T082424
DTSTAMP:20260424T121024
CREATED:20250823T074226Z
LAST-MODIFIED:20260224T082424Z
UID:4729-1771921464-1771921464@grokage.de
SUMMARY:Prinzenpaar-Proklamation
DESCRIPTION:Na\, wer wird es wohl sein? Traditionelle Prinzenpaarproklamation der GroKaGe in der Reithalle Rastatt! Wir freuen uns auf viele Freunde und Gäste. \n(Organisatorische Informationen für aktive Mitglieder im Mitgliederbereich)
URL:https://grokage.de/event/prinzenpaar-proklamation/
LOCATION:Reithalle Rastatt\, Am Schlossplatz 9\, Rastatt\, 76437\, Germany
END:VEVENT
BEGIN:VEVENT
DTSTART;TZID=Europe/Berlin:20260106T100000
DTEND;TZID=Europe/Berlin:20260106T100000
DTSTAMP:20260424T121024
CREATED:20250823T083423Z
LAST-MODIFIED:20251115T123211Z
UID:4748-1767693600-1767693600@grokage.de
SUMMARY:Ordensmatinee
DESCRIPTION:Verleihung des Jahresordens \n— Interne Veranstaltung für Mitglieder und Freunde der GroKaGe Rastatt —
URL:https://grokage.de/event/ordensmatinee/
LOCATION:Reithalle Rastatt\, Am Schlossplatz 9\, Rastatt\, 76437\, Germany
END:VEVENT
BEGIN:VEVENT
DTSTART;VALUE=DATE:20260104
DTEND;VALUE=DATE:20260105
DTSTAMP:20260424T121024
CREATED:20250823T082952Z
LAST-MODIFIED:20250823T082952Z
UID:4744-1767484800-1767571199@grokage.de
SUMMARY:Goldener Löwe in Speyer
DESCRIPTION:Verleihung (keine Angst\, er darf behalten werden) des goldenen Löwen an verdiente Vereinsmitglieder \n— Interne Veranstaltung —
URL:https://grokage.de/event/goldener-loewe-in-speyer/
LOCATION:Stadthalle Speyer\, Obere Langgasse 33\, Speyer\, 67346\, Germany
END:VEVENT
BEGIN:VEVENT
DTSTART;TZID=Europe/Berlin:20251229T180000
DTEND;TZID=Europe/Berlin:20251229T180000
DTSTAMP:20260424T121024
CREATED:20231024T185410Z
LAST-MODIFIED:20250823T095817Z
UID:3161-1767031200-1767031200@grokage.de
SUMMARY:Brezelwürfeln
DESCRIPTION:Das Jahr neigt sich zu Ende und traditionell trifft sich die GroKaGe zum Brezelwürfeln! \nVeranstaltungsort: Wird noch bekannt gegeben! \n— Interne Veranstaltung für GroKaGe-Vereinsmitglieder —
URL:https://grokage.de/event/brezelwuerfeln/
END:VEVENT
BEGIN:VEVENT
DTSTART;VALUE=DATE:20251206
DTEND;VALUE=DATE:20251207
DTSTAMP:20260424T121024
CREATED:20250823T080732Z
LAST-MODIFIED:20251105T074659Z
UID:4737-1764979200-1765065599@grokage.de
SUMMARY:Weihnachstsausfahrt in die Pfalz
DESCRIPTION:Wohin: ? \nAbschluss: Weingut Geiger in Dierbach \nDie Fahrtkosten sind im Bus zu entrichten. Sämtliche weitere Kosten für Getränke und Verzehr sind vom Teilnehmer selbst zu entrichten. \nACHTUNG: Voranmeldung erforderlich! Hier geht es zur Anmeldung \n— Veranstaltung für alle aktiven und passiven Mitglieder\, sowie Freunde der GroKaGe Rastatt —
URL:https://grokage.de/event/weihnachstsausfahrt-in-die-pfalz/
LOCATION:Weingut Dieter Geiger
END:VEVENT
BEGIN:VEVENT
DTSTART;TZID=Europe/Berlin:20251122T090000
DTEND;TZID=Europe/Berlin:20251122T090000
DTSTAMP:20260424T121024
CREATED:20250823T075602Z
LAST-MODIFIED:20251115T122948Z
UID:4735-1763802000-1763802000@grokage.de
SUMMARY:Garden-Freundschaftsturnier in der Sporthalle Wintersdorf
DESCRIPTION:
URL:https://grokage.de/event/garden-freundschaftsturnier-in-der-sporthalle-wintersdorf/
LOCATION:Turn- & Festhalle Wintersdorf\, St. Michael Strasse 4\, Rastatt-Wintersdorf\, 76437\, Germany
END:VEVENT
BEGIN:VEVENT
DTSTART;TZID=Europe/Berlin:20251026T100000
DTEND;TZID=Europe/Berlin:20251026T130000
DTSTAMP:20260424T121024
CREATED:20250829T102031Z
LAST-MODIFIED:20250829T102031Z
UID:5358-1761472800-1761483600@grokage.de
SUMMARY:Interne Veranstaltung (... Mitgliederbereich)
DESCRIPTION:Interne Veranstaltung. Mehr Informationen im Mitgliederbereich!
URL:https://grokage.de/event/interne-veranstaltung-mitgliederbereich/
END:VEVENT
BEGIN:VEVENT
DTSTART;TZID=Europe/Berlin:20250826T190000
DTEND;TZID=Europe/Berlin:20250826T190000
DTSTAMP:20260424T121024
CREATED:20250823T103000Z
LAST-MODIFIED:20250823T103039Z
UID:4778-1756234800-1756234800@grokage.de
SUMMARY:2. Sommerstammtisch im Rats
DESCRIPTION:Sommerstammtisch im Rats für alle aktiven und passiven Mitglieder der GroKaGe Rastatt
URL:https://grokage.de/event/2-sommerstammtisch-im-rats/
LOCATION:Ratsstübl Rastatt\, Kaiserstrasse 45\, Rastatt\, 76437
END:VEVENT
END:VCALENDAR